BEGIN:VCALENDAR
VERSION:2.0
PRODID:-//Al-Anon/Alateen Area 42 District 5 - ECPv6.15.20//NONSGML v1.0//EN
CALSCALE:GREGORIAN
METHOD:PUBLISH
X-WR-CALNAME:Al-Anon/Alateen Area 42 District 5
X-ORIGINAL-URL:https://charlottealanon.org
X-WR-CALDESC:Events for Al-Anon/Alateen Area 42 District 5
REFRESH-INTERVAL;VALUE=DURATION:PT1H
X-Robots-Tag:noindex
X-PUBLISHED-TTL:PT1H
BEGIN:VTIMEZONE
TZID:UTC
BEGIN:STANDARD
TZOFFSETFROM:+0000
TZOFFSETTO:+0000
TZNAME:UTC
DTSTART:20220101T000000
END:STANDARD
END:VTIMEZONE
BEGIN:VTIMEZONE
TZID:America/New_York
BEGIN:DAYLIGHT
TZOFFSETFROM:-0500
TZOFFSETTO:-0400
TZNAME:EDT
DTSTART:20220313T070000
END:DAYLIGHT
BEGIN:STANDARD
TZOFFSETFROM:-0400
TZOFFSETTO:-0500
TZNAME:EST
DTSTART:20221106T060000
END:STANDARD
BEGIN:DAYLIGHT
TZOFFSETFROM:-0500
TZOFFSETTO:-0400
TZNAME:EDT
DTSTART:20230312T070000
END:DAYLIGHT
BEGIN:STANDARD
TZOFFSETFROM:-0400
TZOFFSETTO:-0500
TZNAME:EST
DTSTART:20231105T060000
END:STANDARD
BEGIN:DAYLIGHT
TZOFFSETFROM:-0500
TZOFFSETTO:-0400
TZNAME:EDT
DTSTART:20240310T070000
END:DAYLIGHT
BEGIN:STANDARD
TZOFFSETFROM:-0400
TZOFFSETTO:-0500
TZNAME:EST
DTSTART:20241103T060000
END:STANDARD
BEGIN:DAYLIGHT
TZOFFSETFROM:-0500
TZOFFSETTO:-0400
TZNAME:EDT
DTSTART:20250309T070000
END:DAYLIGHT
BEGIN:STANDARD
TZOFFSETFROM:-0400
TZOFFSETTO:-0500
TZNAME:EST
DTSTART:20251102T060000
END:STANDARD
END:VTIMEZONE
BEGIN:VTIMEZONE
TZID:America/Denver
BEGIN:DAYLIGHT
TZOFFSETFROM:-0700
TZOFFSETTO:-0600
TZNAME:MDT
DTSTART:20220313T090000
END:DAYLIGHT
BEGIN:STANDARD
TZOFFSETFROM:-0600
TZOFFSETTO:-0700
TZNAME:MST
DTSTART:20221106T080000
END:STANDARD
BEGIN:DAYLIGHT
TZOFFSETFROM:-0700
TZOFFSETTO:-0600
TZNAME:MDT
DTSTART:20230312T090000
END:DAYLIGHT
BEGIN:STANDARD
TZOFFSETFROM:-0600
TZOFFSETTO:-0700
TZNAME:MST
DTSTART:20231105T080000
END:STANDARD
BEGIN:DAYLIGHT
TZOFFSETFROM:-0700
TZOFFSETTO:-0600
TZNAME:MDT
DTSTART:20240310T090000
END:DAYLIGHT
BEGIN:STANDARD
TZOFFSETFROM:-0600
TZOFFSETTO:-0700
TZNAME:MST
DTSTART:20241103T080000
END:STANDARD
END:VTIMEZONE
BEGIN:VEVENT
DTSTART;TZID=UTC:20240301T080000
DTEND;TZID=UTC:20240301T170000
DTSTAMP:20260423T175657
CREATED:20230917T035933Z
LAST-MODIFIED:20230917T035933Z
UID:3302-1709280000-1709312400@charlottealanon.org
SUMMARY:Area Convention
DESCRIPTION:
URL:https://charlottealanon.org/event/area-convention/
END:VEVENT
BEGIN:VEVENT
DTSTART;TZID=America/New_York:20240210T100000
DTEND;TZID=America/New_York:20240210T120000
DTSTAMP:20260423T175657
CREATED:20230916T021334Z
LAST-MODIFIED:20230916T021530Z
UID:3276-1707559200-1707566400@charlottealanon.org
SUMMARY:District Meeting
DESCRIPTION:Meeting Location: The Joy Room
URL:https://charlottealanon.org/event/district-meeting-5/
LOCATION:Providence United Methodist Church\, 2810 Providence Rd.\, Charlotte\, NC\, 28211\, United States
END:VEVENT
BEGIN:VEVENT
DTSTART;TZID=UTC:20240208T193000
DTEND;TZID=UTC:20240208T203000
DTSTAMP:20260423T175657
CREATED:20240129T181629Z
LAST-MODIFIED:20240129T181629Z
UID:3520-1707420600-1707424200@charlottealanon.org
SUMMARY:Electronic Groups Task Force Informational Town Hall on ZOOM
DESCRIPTION:
URL:https://charlottealanon.org/event/electronic-groups-task-force-informational-town-hall-on-zoom-2/
ATTACH;FMTTYPE=application/pdf:https://charlottealanon.org/wp-content/uploads/2024/01/Electronic-Groups-Task-Force-Town-Hall-Flyer-1-2.pdf
END:VEVENT
BEGIN:VEVENT
DTSTART;TZID=America/New_York:20240204T140000
DTEND;TZID=America/New_York:20240204T150000
DTSTAMP:20260423T175657
CREATED:20240129T145609Z
LAST-MODIFIED:20240129T181447Z
UID:3514-1707055200-1707058800@charlottealanon.org
SUMMARY:Electronic Groups Task Force Informational Town Hall on ZOOM
DESCRIPTION:Sunday Feb. 4th or Thursday Feb. 8th.
URL:https://charlottealanon.org/event/electronic-groups-task-force-informational-town-hall-on-zoom/
ATTACH;FMTTYPE=application/pdf:https://charlottealanon.org/wp-content/uploads/2024/01/Electronic-Groups-Task-Force-Town-Hall-Flyer-1.pdf
END:VEVENT
BEGIN:VEVENT
DTSTART;TZID=America/New_York:20240203T100000
DTEND;TZID=America/New_York:20240203T113000
DTSTAMP:20260423T175657
CREATED:20230917T035805Z
LAST-MODIFIED:20230917T035805Z
UID:3300-1706954400-1706959800@charlottealanon.org
SUMMARY:Officer and Coordinator Panel Meeting
DESCRIPTION:
URL:https://charlottealanon.org/event/officer-and-coordinator-panel-meeting-2/
END:VEVENT
BEGIN:VEVENT
DTSTART;VALUE=DATE:20240101
DTEND;VALUE=DATE:20240102
DTSTAMP:20260423T175657
CREATED:20231220T212944Z
LAST-MODIFIED:20231220T212944Z
UID:3478-1704067200-1704153599@charlottealanon.org
SUMMARY:Al-Anonathon on ZOOM (New Year's Day)
DESCRIPTION:9:00 AM\, 12:00 Noon\, 3:00PM \nZoom information: \nhttps://us02web.zoom.us/j/85688292603?pwd=d2dNazJLcDYvUklobjNPZ09VdWN6Zz09 \nMeeting ID: 856 8829 2603\nPasscode: 734912 \nDial-in information: \n+1 301 715 8592 US Find your local number:\nhttps://us02web.zoom.us/u/kckUGXIu4k
URL:https://charlottealanon.org/event/al-anonathon-on-zoom-new-years-day/
END:VEVENT
BEGIN:VEVENT
DTSTART;VALUE=DATE:20240101
DTEND;VALUE=DATE:20240102
DTSTAMP:20260423T175657
CREATED:20230916T021145Z
LAST-MODIFIED:20231205T141714Z
UID:3274-1704067200-1704153599@charlottealanon.org
SUMMARY:Al-Anonathon (New Year's Day)
DESCRIPTION:
URL:https://charlottealanon.org/event/al-anonathon-3/
LOCATION:12th Step Club\, 709 East Blvd.\, Charlotte\, North Carolina\, United States
END:VEVENT
BEGIN:VEVENT
DTSTART;VALUE=DATE:20231231
DTEND;VALUE=DATE:20240101
DTSTAMP:20260423T175657
CREATED:20231220T212735Z
LAST-MODIFIED:20231221T040812Z
UID:3475-1703980800-1704067199@charlottealanon.org
SUMMARY:Al-Anonathon on ZOOM (New Year's Eve)
DESCRIPTION:6:00\, 8:00\, and 10:00 PM \nZoom information: \nhttps://us02web.zoom.us/j/85688292603?pwd=d2dNazJLcDYvUklobjNPZ09VdWN6Zz09 \nMeeting ID: 856 8829 2603\nPasscode: 734912 \nDial-in information: \n+1 301 715 8592 US Find your local number:\nhttps://us02web.zoom.us/u/kckUGXIu4k \n 
URL:https://charlottealanon.org/event/al-anonathon-on-zoom-new-years-eve/
END:VEVENT
BEGIN:VEVENT
DTSTART;VALUE=DATE:20231231
DTEND;VALUE=DATE:20240101
DTSTAMP:20260423T175657
CREATED:20230916T021022Z
LAST-MODIFIED:20231205T141613Z
UID:3272-1703980800-1704067199@charlottealanon.org
SUMMARY:Al-Anonathon (New Year's Eve)
DESCRIPTION:
URL:https://charlottealanon.org/event/al-anonathon-2/
LOCATION:12th Step Club\, 709 East Blvd.\, Charlotte\, North Carolina\, United States
END:VEVENT
BEGIN:VEVENT
DTSTART;VALUE=DATE:20231225
DTEND;VALUE=DATE:20231226
DTSTAMP:20260423T175657
CREATED:20231220T212453Z
LAST-MODIFIED:20231220T212453Z
UID:3472-1703462400-1703548799@charlottealanon.org
SUMMARY:Al-Anonathon on ZOOM (Christmas Day)
DESCRIPTION:9:00 AM\, 12:00 Noon\, and 3:00 PM \nZoom information: \nhttps://us02web.zoom.us/j/85688292603?pwd=d2dNazJLcDYvUklobjNPZ09VdWN6Zz09 \nMeeting ID: 856 8829 2603\nPasscode: 734912 \nDial-in information: \n+1 301 715 8592 US Find your local number:\nhttps://us02web.zoom.us/u/kckUGXIu4k
URL:https://charlottealanon.org/event/al-anonathon-on-zoom-christmas-day/
END:VEVENT
BEGIN:VEVENT
DTSTART;VALUE=DATE:20231225
DTEND;VALUE=DATE:20231226
DTSTAMP:20260423T175657
CREATED:20230916T020945Z
LAST-MODIFIED:20231205T141431Z
UID:3270-1703462400-1703548799@charlottealanon.org
SUMMARY:Al-Anonathon (Christmas Day)
DESCRIPTION:
URL:https://charlottealanon.org/event/al-anonathon/
LOCATION:12th Step Club\, 709 East Blvd.\, Charlotte\, North Carolina\, United States
END:VEVENT
BEGIN:VEVENT
DTSTART;VALUE=DATE:20231224
DTEND;VALUE=DATE:20231225
DTSTAMP:20260423T175657
CREATED:20231220T211535Z
LAST-MODIFIED:20231220T211944Z
UID:3467-1703376000-1703462399@charlottealanon.org
SUMMARY:Al-Anonathon on Zoom (Christmas Eve)
DESCRIPTION:6:00\, 8:00 and 10:00 PM \nhttps://us02web.zoom.us/j/85688292603?pwd=d2dNazJLcDYvUklobjNPZ09VdWN6Zz09 \nMeeting ID: 856 8829 2603 \nPasscode: 734912 \n+1 301 715 8592 US Find your local number:\nhttps://us02web.zoom.us/u/kckUGXIu4k
URL:https://charlottealanon.org/event/christmas-eve-alanonathon-on-zoom/
END:VEVENT
BEGIN:VEVENT
DTSTART;VALUE=DATE:20231224
DTEND;VALUE=DATE:20231225
DTSTAMP:20260423T175657
CREATED:20231205T140809Z
LAST-MODIFIED:20231205T141451Z
UID:3430-1703376000-1703462399@charlottealanon.org
SUMMARY:Al-Anonathon (Christmas Eve)
DESCRIPTION:
URL:https://charlottealanon.org/event/al-anonathon-christmas-eve/
LOCATION:12th Step Club\, 709 East Blvd.\, Charlotte\, North Carolina\, United States
END:VEVENT
BEGIN:VEVENT
DTSTART;VALUE=DATE:20231122
DTEND;VALUE=DATE:20231123
DTSTAMP:20260423T175657
CREATED:20230917T034155Z
LAST-MODIFIED:20230917T034155Z
UID:3280-1700611200-1700697599@charlottealanon.org
SUMMARY:Deadline for Newsletter Articles
DESCRIPTION:Please submit your Newsletter Articles by November 22nd. \nSend to:  district5news@ncbermudaafg.org
URL:https://charlottealanon.org/event/deadline-for-newsletter-articles/
END:VEVENT
BEGIN:VEVENT
DTSTART;TZID=America/New_York:20231110T083000
DTEND;TZID=America/New_York:20231110T130000
DTSTAMP:20260423T175657
CREATED:20230917T042349Z
LAST-MODIFIED:20230917T042439Z
UID:3317-1699605000-1699621200@charlottealanon.org
SUMMARY:NC School Counselor's Association Conference
DESCRIPTION:For district members who volunteered to distribute information from our booth.
URL:https://charlottealanon.org/event/nc-school-counselors-association-conference-3/
LOCATION:Embassy Suites Resort & Convention Center\, 5400 John Q. Hammons Dr. NW\, Concord\, NC\, 28027\, United States
END:VEVENT
BEGIN:VEVENT
DTSTART;TZID=America/New_York:20231109T073000
DTEND;TZID=America/New_York:20231109T170000
DTSTAMP:20260423T175657
CREATED:20230917T042203Z
LAST-MODIFIED:20230917T042531Z
UID:3315-1699515000-1699549200@charlottealanon.org
SUMMARY:NC School Counselor's Association Conference
DESCRIPTION:For district members who volunteered to distribute information from our booth.
URL:https://charlottealanon.org/event/nc-school-counselors-association-conference-2/
LOCATION:Embassy Suites Resort & Convention Center\, 5400 John Q. Hammons Dr. NW\, Concord\, NC\, 28027\, United States
END:VEVENT
BEGIN:VEVENT
DTSTART;TZID=America/New_York:20231108T133000
DTEND;TZID=America/New_York:20231108T180000
DTSTAMP:20260423T175657
CREATED:20230917T040939Z
LAST-MODIFIED:20230917T041959Z
UID:3312-1699450200-1699466400@charlottealanon.org
SUMMARY:NC School Counselor's Association Conference
DESCRIPTION:For district members who volunteered to distribute literature from our booth.
URL:https://charlottealanon.org/event/nc-school-counselors-association-conference/
LOCATION:Embassy Suites Resort & Convention Center\, 5400 John Q. Hammons Dr. NW\, Concord\, NC\, 28027\, United States
END:VEVENT
BEGIN:VEVENT
DTSTART;VALUE=DATE:20231104
DTEND;VALUE=DATE:20231105
DTSTAMP:20260423T175657
CREATED:20221105T034553Z
LAST-MODIFIED:20230125T193752Z
UID:1971-1699056000-1699142399@charlottealanon.org
SUMMARY:NC/Bermuda Area Assembly
DESCRIPTION:
URL:https://charlottealanon.org/event/nc-bermuda-area-assembly-2/
END:VEVENT
BEGIN:VEVENT
DTSTART;TZID=America/New_York:20231103T180000
DTEND;TZID=America/New_York:20231103T210000
DTSTAMP:20260423T175657
CREATED:20231010T012754Z
LAST-MODIFIED:20231010T012754Z
UID:3342-1699034400-1699045200@charlottealanon.org
SUMMARY:A Little Night For Ourselves
DESCRIPTION:Come join District 5 for an evening of fun and fellowship before Saturday’s Area Assembly.
URL:https://charlottealanon.org/event/a-little-night-for-ourselves/
LOCATION:St. Matthew Catholic Church\, 8015 Ballantyne Commons Parkway\, Charlotte\, North Carolina\, 28277
ATTACH;FMTTYPE=application/pdf:https://charlottealanon.org/wp-content/uploads/2023/10/A-Little-Night-flyer-1.pdf
END:VEVENT
BEGIN:VEVENT
DTSTART;TZID=America/New_York:20231021T140000
DTEND;TZID=America/New_York:20231021T170000
DTSTAMP:20260423T175657
CREATED:20230908T033513Z
LAST-MODIFIED:20230908T033513Z
UID:3242-1697896800-1697907600@charlottealanon.org
SUMMARY:Greenville/Winterville AFG Gratitude Dinner
DESCRIPTION:Room B102
URL:https://charlottealanon.org/event/greenville-winterville-afg-gratitude-dinner/
LOCATION:Covenant Church\, 1396 Firetower Rd.\, Winterville\, North Carolina\, 28590\, United States
END:VEVENT
BEGIN:VEVENT
DTSTART;TZID=America/New_York:20231014T093000
DTEND;TZID=America/New_York:20231014T140000
DTSTAMP:20260423T175657
CREATED:20230908T032903Z
LAST-MODIFIED:20230908T032903Z
UID:3238-1697275800-1697292000@charlottealanon.org
SUMMARY:K.I.S.S. Workshop
DESCRIPTION:
URL:https://charlottealanon.org/event/k-i-s-s-workshop/
LOCATION:Philadelphia Lutheran Church\, 52 Pinewood Rd.\, Granite Falls\, NC\, 28630\, United States
END:VEVENT
BEGIN:VEVENT
DTSTART;TZID=America/New_York:20230923T100000
DTEND;TZID=America/New_York:20230923T120000
DTSTAMP:20260423T175657
CREATED:20221105T034447Z
LAST-MODIFIED:20221111T025539Z
UID:1969-1695463200-1695470400@charlottealanon.org
SUMMARY:District Meeting
DESCRIPTION:Meeting Location: The Joy Room
URL:https://charlottealanon.org/event/district-meeting-4/
LOCATION:Providence United Methodist Church\, 2810 Providence Rd.\, Charlotte\, NC\, 28211\, United States
END:VEVENT
BEGIN:VEVENT
DTSTART;TZID=America/New_York:20230729T100000
DTEND;TZID=America/New_York:20230729T120000
DTSTAMP:20260423T175657
CREATED:20221105T033813Z
LAST-MODIFIED:20221111T025847Z
UID:1965-1690624800-1690632000@charlottealanon.org
SUMMARY:District Meeting
DESCRIPTION:Meeting Location: The Joy Room
URL:https://charlottealanon.org/event/district-meeting-3/
LOCATION:Providence United Methodist Church\, 2810 Providence Rd.\, Charlotte\, NC\, 28211\, United States
END:VEVENT
BEGIN:VEVENT
DTSTART;TZID=America/New_York:20230718T180000
DTEND;TZID=America/New_York:20230718T203000
DTSTAMP:20260423T175657
CREATED:20230706T141626Z
LAST-MODIFIED:20230706T141626Z
UID:3166-1689703200-1689712200@charlottealanon.org
SUMMARY:Men's Tuesday Night Al-Anon 18th Anniversary Celebration
DESCRIPTION:
URL:https://charlottealanon.org/event/mens-tuesday-night-al-anon-18th-anniversary-celebration/
END:VEVENT
BEGIN:VEVENT
DTSTART;TZID=America/Denver:20230629T080000
DTEND;TZID=America/Denver:20230702T130000
DTSTAMP:20260423T175657
CREATED:20221029T001309Z
LAST-MODIFIED:20230301T011611Z
UID:1137-1688025600-1688302800@charlottealanon.org
SUMMARY:2023 Al-Anon International Convention
DESCRIPTION:Al-Anon\nInternational Convention\nRegistration Is Open!\n\n\n\n\n\n\n\n\n\n\n\n\n\n\n\n\n\n\n\nDear Al‑Anon Members\,\nWe are excited to announce that registration for the 2023 Al‑Anon International Convention with A.A. participation\, in Albuquerque\, New Mexico\, USA\, June 29‑July 02\, is open!\nWhile it is possible to register safely and securely using a smart device (smartphone or tablet)\, the user experience is not optimal. So\, for best results\, we recommend using a laptop/desktop computer. We ask that you share this with other members.\n\n\n\n\n\n\n\n\n\n\n\n\n\n\n\n\n\n\n\nThe registration fees are as follows:\n\n\nPrior to January 11\, 2023–$175 US\nPrior to May 10\, 2023–$200 US\nAfter May 10\, 2023–$225 US\n\nIf paying by credit card\, you will receive two emails:\n\nPayment receipt\nRegistration Confirmation and link to the housing reservation site.\n\nThe Housing Link included in your Registration Confirmation email will start with https book passkey com/entry/xxxxxxxxxxxxxxx\nThis link is custom and can only be used by you.\nIf paying by check\, you will receive an email with payment instructions. Once your payment has been received and posted\, you will receive your Registration Confirmation email containing the link to the housing reservation site.\n\n\n\n\n\n\n\n\n\n\n\n\n\n\n\n\n\n\n\nThis registration includes access to the following events:\n\n\nThe Party in the Plaza (Thursday night)\nInternational Big Meeting\, including the Language of Love Parade (Friday morning)\nFamily Big Meeting (Saturday night)\nSpiritual Big Meeting (Sunday morning)\nYour choice of many sessions throughout the event\n\nAvailable add‑ons\, for additional fee:\n\nDay of Connecting (All day Thursday)\, Speakers and workshops celebrating service\, the third leg in our recovery–$55 US includes lunch.\nTrailblazers Breakfast on Route 66! (Saturday morning)\, a Speaker meeting celebrating Trailblazers throughout Al‑Anon’s history including those still trailblazing today–$75 US includes breakfast.\n\nAl‑Anon Room Block\n\nThe Al‑Anon program will be held at the Convention Center\, with one evening session occurring at the connected DoubleTree hotel.\nThe A.A. program will be held in The Clyde hotel directly across the corner from the Convention Center.\nAl‑Anon has negotiated reasonable room rates that are dependent on members reserving housing through the International Convention Housing Room Block\, this helps the registration fee remain as low as possible.\nThe room rates range from $124 US to $189 US a night.\nReserve your hotel room early to be close to all the action.\nYou can also reach us at: events@al-anon.org or by calling 757‑563‑1600.\n\n\n\n\n\n\n\n\n\n\n\n\n\n\n\n\n\n\n\n\n\n\n\nRegister
URL:https://charlottealanon.org/event/2023-al-anon-international-convention/
END:VEVENT
BEGIN:VEVENT
DTSTART;TZID=America/New_York:20230522T200000
DTEND;TZID=America/New_York:20230522T210000
DTSTAMP:20260423T175657
CREATED:20230515T163509Z
LAST-MODIFIED:20230515T163509Z
UID:3094-1684785600-1684789200@charlottealanon.org
SUMMARY:Invitation to an Open Alateen Meeting
DESCRIPTION:In-Person or Online. \nZOOM Link: https://us02web.zoom.us/j/85190275323  Meeting ID: 851 9027 5323  Passcode: Area42
URL:https://charlottealanon.org/event/invitation-to-an-open-alateen-meeting/
LOCATION:Hudson Memorial Presbyterian Church\, 4921 Six Forks Rd.\, Raleigh\, NC\, 27609\, United States
END:VEVENT
BEGIN:VEVENT
DTSTART;VALUE=DATE:20230520
DTEND;VALUE=DATE:20230521
DTSTAMP:20260423T175657
CREATED:20221105T034122Z
LAST-MODIFIED:20230515T165125Z
UID:1967-1684540800-1684627199@charlottealanon.org
SUMMARY:NC/Bermuda Area Assembly
DESCRIPTION:2023 Spring Assembly Open House & Fellowship Information \nAMIAS_ALATEEN Workshop 5-20-23 Assembly \nSpring Assembly Agenda – May 20\, 2023
URL:https://charlottealanon.org/event/nc-bermuda-area-assembly/
END:VEVENT
BEGIN:VEVENT
DTSTART;TZID=America/New_York:20230429T150000
DTEND;TZID=America/New_York:20230429T160000
DTSTAMP:20260423T175657
CREATED:20230228T005625Z
LAST-MODIFIED:20230228T005625Z
UID:2647-1682780400-1682784000@charlottealanon.org
SUMMARY:North Carolina/Bermuda AFG Area Town Hall on ZOOM
DESCRIPTION:Flyer
URL:https://charlottealanon.org/event/north-carolina-bermuda-afg-area-town-hall-on-zoom-2/
ATTACH;FMTTYPE=application/pdf:https://charlottealanon.org/wp-content/uploads/2023/02/Town-Hall-Consideration-of-Permanent-Electronic-Meetings-2.pdf
END:VEVENT
BEGIN:VEVENT
DTSTART;TZID=America/New_York:20230404T190000
DTEND;TZID=America/New_York:20230404T200000
DTSTAMP:20260423T175657
CREATED:20230228T005335Z
LAST-MODIFIED:20230228T005335Z
UID:2644-1680634800-1680638400@charlottealanon.org
SUMMARY:North Carolina/Bermuda AFG Area Town Hall on ZOOM
DESCRIPTION:Flyer
URL:https://charlottealanon.org/event/north-carolina-bermuda-afg-area-town-hall-on-zoom/
ATTACH;FMTTYPE=application/pdf:https://charlottealanon.org/wp-content/uploads/2023/02/Town-Hall-Consideration-of-Permanent-Electronic-Meetings-1.pdf
END:VEVENT
BEGIN:VEVENT
DTSTART;TZID=America/New_York:20230325T100000
DTEND;TZID=America/New_York:20230325T120000
DTSTAMP:20260423T175657
CREATED:20221105T033624Z
LAST-MODIFIED:20221111T025933Z
UID:1963-1679738400-1679745600@charlottealanon.org
SUMMARY:District Meeting
DESCRIPTION:Meeting Location: The Joy Room
URL:https://charlottealanon.org/event/district-meeting-2/
LOCATION:Providence United Methodist Church\, 2810 Providence Rd.\, Charlotte\, NC\, 28211\, United States
END:VEVENT
END:VCALENDAR