BEGIN:VCALENDAR
VERSION:2.0
PRODID:-//Al-Anon/Alateen Area 42 District 5 - ECPv6.15.20//NONSGML v1.0//EN
CALSCALE:GREGORIAN
METHOD:PUBLISH
X-WR-CALNAME:Al-Anon/Alateen Area 42 District 5
X-ORIGINAL-URL:https://charlottealanon.org
X-WR-CALDESC:Events for Al-Anon/Alateen Area 42 District 5
REFRESH-INTERVAL;VALUE=DURATION:PT1H
X-Robots-Tag:noindex
X-PUBLISHED-TTL:PT1H
BEGIN:VTIMEZONE
TZID:America/Denver
BEGIN:DAYLIGHT
TZOFFSETFROM:-0700
TZOFFSETTO:-0600
TZNAME:MDT
DTSTART:20220313T090000
END:DAYLIGHT
BEGIN:STANDARD
TZOFFSETFROM:-0600
TZOFFSETTO:-0700
TZNAME:MST
DTSTART:20221106T080000
END:STANDARD
BEGIN:DAYLIGHT
TZOFFSETFROM:-0700
TZOFFSETTO:-0600
TZNAME:MDT
DTSTART:20230312T090000
END:DAYLIGHT
BEGIN:STANDARD
TZOFFSETFROM:-0600
TZOFFSETTO:-0700
TZNAME:MST
DTSTART:20231105T080000
END:STANDARD
BEGIN:DAYLIGHT
TZOFFSETFROM:-0700
TZOFFSETTO:-0600
TZNAME:MDT
DTSTART:20240310T090000
END:DAYLIGHT
BEGIN:STANDARD
TZOFFSETFROM:-0600
TZOFFSETTO:-0700
TZNAME:MST
DTSTART:20241103T080000
END:STANDARD
END:VTIMEZONE
BEGIN:VTIMEZONE
TZID:America/New_York
BEGIN:DAYLIGHT
TZOFFSETFROM:-0500
TZOFFSETTO:-0400
TZNAME:EDT
DTSTART:20210314T070000
END:DAYLIGHT
BEGIN:STANDARD
TZOFFSETFROM:-0400
TZOFFSETTO:-0500
TZNAME:EST
DTSTART:20211107T060000
END:STANDARD
BEGIN:DAYLIGHT
TZOFFSETFROM:-0500
TZOFFSETTO:-0400
TZNAME:EDT
DTSTART:20220313T070000
END:DAYLIGHT
BEGIN:STANDARD
TZOFFSETFROM:-0400
TZOFFSETTO:-0500
TZNAME:EST
DTSTART:20221106T060000
END:STANDARD
BEGIN:DAYLIGHT
TZOFFSETFROM:-0500
TZOFFSETTO:-0400
TZNAME:EDT
DTSTART:20230312T070000
END:DAYLIGHT
BEGIN:STANDARD
TZOFFSETFROM:-0400
TZOFFSETTO:-0500
TZNAME:EST
DTSTART:20231105T060000
END:STANDARD
BEGIN:DAYLIGHT
TZOFFSETFROM:-0500
TZOFFSETTO:-0400
TZNAME:EDT
DTSTART:20240310T070000
END:DAYLIGHT
BEGIN:STANDARD
TZOFFSETFROM:-0400
TZOFFSETTO:-0500
TZNAME:EST
DTSTART:20241103T060000
END:STANDARD
END:VTIMEZONE
BEGIN:VTIMEZONE
TZID:UTC
BEGIN:STANDARD
TZOFFSETFROM:+0000
TZOFFSETTO:+0000
TZNAME:UTC
DTSTART:20210101T000000
END:STANDARD
END:VTIMEZONE
BEGIN:VEVENT
DTSTART;TZID=America/Denver:20230629T080000
DTEND;TZID=America/Denver:20230702T130000
DTSTAMP:20260423T204304
CREATED:20221029T001309Z
LAST-MODIFIED:20230301T011611Z
UID:1137-1688025600-1688302800@charlottealanon.org
SUMMARY:2023 Al-Anon International Convention
DESCRIPTION:Al-Anon\nInternational Convention\nRegistration Is Open!\n\n\n\n\n\n\n\n\n\n\n\n\n\n\n\n\n\n\n\nDear Al‑Anon Members\,\nWe are excited to announce that registration for the 2023 Al‑Anon International Convention with A.A. participation\, in Albuquerque\, New Mexico\, USA\, June 29‑July 02\, is open!\nWhile it is possible to register safely and securely using a smart device (smartphone or tablet)\, the user experience is not optimal. So\, for best results\, we recommend using a laptop/desktop computer. We ask that you share this with other members.\n\n\n\n\n\n\n\n\n\n\n\n\n\n\n\n\n\n\n\nThe registration fees are as follows:\n\n\nPrior to January 11\, 2023–$175 US\nPrior to May 10\, 2023–$200 US\nAfter May 10\, 2023–$225 US\n\nIf paying by credit card\, you will receive two emails:\n\nPayment receipt\nRegistration Confirmation and link to the housing reservation site.\n\nThe Housing Link included in your Registration Confirmation email will start with https book passkey com/entry/xxxxxxxxxxxxxxx\nThis link is custom and can only be used by you.\nIf paying by check\, you will receive an email with payment instructions. Once your payment has been received and posted\, you will receive your Registration Confirmation email containing the link to the housing reservation site.\n\n\n\n\n\n\n\n\n\n\n\n\n\n\n\n\n\n\n\nThis registration includes access to the following events:\n\n\nThe Party in the Plaza (Thursday night)\nInternational Big Meeting\, including the Language of Love Parade (Friday morning)\nFamily Big Meeting (Saturday night)\nSpiritual Big Meeting (Sunday morning)\nYour choice of many sessions throughout the event\n\nAvailable add‑ons\, for additional fee:\n\nDay of Connecting (All day Thursday)\, Speakers and workshops celebrating service\, the third leg in our recovery–$55 US includes lunch.\nTrailblazers Breakfast on Route 66! (Saturday morning)\, a Speaker meeting celebrating Trailblazers throughout Al‑Anon’s history including those still trailblazing today–$75 US includes breakfast.\n\nAl‑Anon Room Block\n\nThe Al‑Anon program will be held at the Convention Center\, with one evening session occurring at the connected DoubleTree hotel.\nThe A.A. program will be held in The Clyde hotel directly across the corner from the Convention Center.\nAl‑Anon has negotiated reasonable room rates that are dependent on members reserving housing through the International Convention Housing Room Block\, this helps the registration fee remain as low as possible.\nThe room rates range from $124 US to $189 US a night.\nReserve your hotel room early to be close to all the action.\nYou can also reach us at: events@al-anon.org or by calling 757‑563‑1600.\n\n\n\n\n\n\n\n\n\n\n\n\n\n\n\n\n\n\n\n\n\n\n\nRegister
URL:https://charlottealanon.org/event/2023-al-anon-international-convention/
END:VEVENT
BEGIN:VEVENT
DTSTART;TZID=America/New_York:20230522T200000
DTEND;TZID=America/New_York:20230522T210000
DTSTAMP:20260423T204304
CREATED:20230515T163509Z
LAST-MODIFIED:20230515T163509Z
UID:3094-1684785600-1684789200@charlottealanon.org
SUMMARY:Invitation to an Open Alateen Meeting
DESCRIPTION:In-Person or Online. \nZOOM Link: https://us02web.zoom.us/j/85190275323  Meeting ID: 851 9027 5323  Passcode: Area42
URL:https://charlottealanon.org/event/invitation-to-an-open-alateen-meeting/
LOCATION:Hudson Memorial Presbyterian Church\, 4921 Six Forks Rd.\, Raleigh\, NC\, 27609\, United States
END:VEVENT
BEGIN:VEVENT
DTSTART;VALUE=DATE:20230520
DTEND;VALUE=DATE:20230521
DTSTAMP:20260423T204304
CREATED:20221105T034122Z
LAST-MODIFIED:20230515T165125Z
UID:1967-1684540800-1684627199@charlottealanon.org
SUMMARY:NC/Bermuda Area Assembly
DESCRIPTION:2023 Spring Assembly Open House & Fellowship Information \nAMIAS_ALATEEN Workshop 5-20-23 Assembly \nSpring Assembly Agenda – May 20\, 2023
URL:https://charlottealanon.org/event/nc-bermuda-area-assembly/
END:VEVENT
BEGIN:VEVENT
DTSTART;TZID=America/New_York:20230429T150000
DTEND;TZID=America/New_York:20230429T160000
DTSTAMP:20260423T204304
CREATED:20230228T005625Z
LAST-MODIFIED:20230228T005625Z
UID:2647-1682780400-1682784000@charlottealanon.org
SUMMARY:North Carolina/Bermuda AFG Area Town Hall on ZOOM
DESCRIPTION:Flyer
URL:https://charlottealanon.org/event/north-carolina-bermuda-afg-area-town-hall-on-zoom-2/
ATTACH;FMTTYPE=application/pdf:https://charlottealanon.org/wp-content/uploads/2023/02/Town-Hall-Consideration-of-Permanent-Electronic-Meetings-2.pdf
END:VEVENT
BEGIN:VEVENT
DTSTART;TZID=America/New_York:20230404T190000
DTEND;TZID=America/New_York:20230404T200000
DTSTAMP:20260423T204304
CREATED:20230228T005335Z
LAST-MODIFIED:20230228T005335Z
UID:2644-1680634800-1680638400@charlottealanon.org
SUMMARY:North Carolina/Bermuda AFG Area Town Hall on ZOOM
DESCRIPTION:Flyer
URL:https://charlottealanon.org/event/north-carolina-bermuda-afg-area-town-hall-on-zoom/
ATTACH;FMTTYPE=application/pdf:https://charlottealanon.org/wp-content/uploads/2023/02/Town-Hall-Consideration-of-Permanent-Electronic-Meetings-1.pdf
END:VEVENT
BEGIN:VEVENT
DTSTART;TZID=America/New_York:20230325T100000
DTEND;TZID=America/New_York:20230325T120000
DTSTAMP:20260423T204304
CREATED:20221105T033624Z
LAST-MODIFIED:20221111T025933Z
UID:1963-1679738400-1679745600@charlottealanon.org
SUMMARY:District Meeting
DESCRIPTION:Meeting Location: The Joy Room
URL:https://charlottealanon.org/event/district-meeting-2/
LOCATION:Providence United Methodist Church\, 2810 Providence Rd.\, Charlotte\, NC\, 28211\, United States
END:VEVENT
BEGIN:VEVENT
DTSTART;TZID=America/New_York:20230304T083000
DTEND;TZID=America/New_York:20230304T153000
DTSTAMP:20260423T204304
CREATED:20230220T170552Z
LAST-MODIFIED:20230220T171438Z
UID:2623-1677918600-1677943800@charlottealanon.org
SUMMARY:2023 Winter Round Up on ZOOM
DESCRIPTION:ZOOM Flyer
URL:https://charlottealanon.org/event/2023-winter-round-up-on-zoom/
ATTACH;FMTTYPE=application/pdf:https://charlottealanon.org/wp-content/uploads/2023/02/2023-Winter-Roundup-Zoom-Flyer-1.pdf
END:VEVENT
BEGIN:VEVENT
DTSTART;TZID=America/New_York:20230304T080000
DTEND;TZID=America/New_York:20230304T160000
DTSTAMP:20260423T204304
CREATED:20221029T000508Z
LAST-MODIFIED:20230228T004812Z
UID:1133-1677916800-1677945600@charlottealanon.org
SUMMARY:2023 District 5 Winter Round Up
DESCRIPTION:Flyer\, FAQ\, Schedule of Events; \nZOOM Flyer
URL:https://charlottealanon.org/event/district-5-winter-roundup/
LOCATION:St. Matthew Catholic Church\, 8015 Ballantyne Commons Parkway\, Charlotte\, North Carolina\, 28277
ATTACH;FMTTYPE=application/pdf:https://charlottealanon.org/wp-content/uploads/2022/10/2023-Winter-Roundup-Flyer-1-1.pdf
END:VEVENT
BEGIN:VEVENT
DTSTART;TZID=America/New_York:20230224T000000
DTEND;TZID=America/New_York:20230226T000000
DTSTAMP:20260423T204304
CREATED:20221029T005129Z
LAST-MODIFIED:20230225T043129Z
UID:1148-1677196800-1677369600@charlottealanon.org
SUMMARY:48th North Carolina/Bermuda Al-Anon/Alateen Convention
DESCRIPTION:Registration Form\, \nConvention Program
URL:https://charlottealanon.org/event/48th-north-carolina-bermuda-al-anon-alateen-convention/
LOCATION:The Village Inn & Convention Center\, 6205 Ramada Drive\, Clemmons\, North Carolina\, 27012
ATTACH;FMTTYPE=application/pdf:https://charlottealanon.org/wp-content/uploads/2022/10/NCBermuda-Convention-flier-2023.pdf
END:VEVENT
BEGIN:VEVENT
DTSTART;TZID=America/New_York:20230216T140000
DTEND;TZID=America/New_York:20230219T120000
DTSTAMP:20260423T204304
CREATED:20230125T150859Z
LAST-MODIFIED:20230220T171313Z
UID:2524-1676556000-1676808000@charlottealanon.org
SUMMARY:2023 SCAFG Convention
DESCRIPTION:Flyer/Registration\, Conference Schedule. \n 
URL:https://charlottealanon.org/event/2023-scafg-convention/
LOCATION:Hilton Hotel\, 45 W. Orchard Park Dr.\, Greenville\, SC\, 29615\, United States
END:VEVENT
BEGIN:VEVENT
DTSTART;TZID=America/New_York:20230128T100000
DTEND;TZID=America/New_York:20230128T120000
DTSTAMP:20260423T204304
CREATED:20221105T033411Z
LAST-MODIFIED:20221111T025740Z
UID:1961-1674900000-1674907200@charlottealanon.org
SUMMARY:District Meeting
DESCRIPTION:Meeting Location: The Joy Room
URL:https://charlottealanon.org/event/district-meeting/
LOCATION:Providence United Methodist Church\, 2810 Providence Rd.\, Charlotte\, NC\, 28211\, United States
END:VEVENT
BEGIN:VEVENT
DTSTART;TZID=America/New_York:20230101T090000
DTEND;TZID=America/New_York:20230101T160000
DTSTAMP:20260423T204304
CREATED:20221205T184425Z
LAST-MODIFIED:20221205T185206Z
UID:2335-1672563600-1672588800@charlottealanon.org
SUMMARY:Alanonathon Holiday Meetings--New Year's Day
DESCRIPTION:In-Person Al-Anon Meeting 9:00am at the Anuvia Center (upstairs). \nZoom Meetings 9:00am; 12:00noon; 3:00pm \nZoom information: https://us02web.zoom.us/j/85688292603?pwd=d2dNazJLcDYvUklobjNPZ09VdWN6Zz09 \nMeeting ID: 856 8829 2603 \nPasscode: 734912 \n  \nOne tap mobile numbers: \n+13126266799\,\,85688292603# US (Chicago) \n+16469313860\,\,85688292603# US \n  \nDial in numbers: \n+1 312 626 6799 US (Chicago) \n+1 646 931 3860 US \n+1 929 205 6099 US (New York) \n+1 301 715 8592 US (Washington DC) \n  \nFind your local number: https://us02web.zoom.us/u/kckUGXIu4k
URL:https://charlottealanon.org/event/alanonathon-holiday-meetings-new-years-day/
LOCATION:Anuvia Center\, 100 Billingsley Rd.\, Charlotte\, NC\, 28211\, United States
END:VEVENT
BEGIN:VEVENT
DTSTART;TZID=America/New_York:20221231T180000
DTEND;TZID=America/New_York:20221231T230000
DTSTAMP:20260423T204304
CREATED:20221205T184133Z
LAST-MODIFIED:20221207T043206Z
UID:2332-1672509600-1672527600@charlottealanon.org
SUMMARY:Alanonathon Holiday Meetings--New Year's Eve
DESCRIPTION:In-Person Al-Anon Meetings at 6:30pm & 8:00pm at the Anuvia Center (upstairs). \nZoom Meetings at 6:00pm; 8:00pm; 10:00pm \nZoom information: https://us02web.zoom.us/j/85688292603?pwd=d2dNazJLcDYvUklobjNPZ09VdWN6Zz09 \nMeeting ID: 856 8829 2603 \nPasscode: 734912 \n  \nOne tap mobile numbers: \n+13126266799\,\,85688292603# US (Chicago) \n+16469313860\,\,85688292603# US \n  \nDial in numbers: \n+1 312 626 6799 US (Chicago) \n+1 646 931 3860 US \n+1 929 205 6099 US (New York) \n+1 301 715 8592 US (Washington DC) \n  \nFind your local number: https://us02web.zoom.us/u/kckUGXIu4k
URL:https://charlottealanon.org/event/alanonathon-holiday-meetings-new-years-eve/
LOCATION:Anuvia Center\, 100 Billingsley Rd.\, Charlotte\, NC\, 28211\, United States
END:VEVENT
BEGIN:VEVENT
DTSTART;TZID=America/New_York:20221225T090000
DTEND;TZID=America/New_York:20221225T160000
DTSTAMP:20260423T204304
CREATED:20221205T182611Z
LAST-MODIFIED:20221207T043446Z
UID:2324-1671958800-1671984000@charlottealanon.org
SUMMARY:Alanonathon Holiday Meetings--Christmas Day
DESCRIPTION:In-Person Al-Anon Meeting 9:00am at Anuvia Center (upstairs) \nZoom Meetings at 9:00am; 12:00noon; & 3:00pm \nZoom information: https://us02web.zoom.us/j/85688292603?pwd=d2dNazJLcDYvUklobjNPZ09VdWN6Zz09 \nMeeting ID: 856 8829 2603 \nPasscode: 734912 \n  \nOne tap mobile numbers: \n+13126266799\,\,85688292603# US (Chicago) \n+16469313860\,\,85688292603# US \n  \nDial in numbers: \n+1 312 626 6799 US (Chicago) \n+1 646 931 3860 US \n+1 929 205 6099 US (New York) \n+1 301 715 8592 US (Washington DC) \n  \nFind your local number: https://us02web.zoom.us/u/kckUGXIu4k
URL:https://charlottealanon.org/event/alanonathon-holiday-meetings-christmas-day/
LOCATION:Anuvia Center\, 100 Billingsley Rd.\, Charlotte\, NC\, 28211\, United States
END:VEVENT
BEGIN:VEVENT
DTSTART;TZID=America/New_York:20221224T180000
DTEND;TZID=America/New_York:20221224T230000
DTSTAMP:20260423T204304
CREATED:20221205T180818Z
LAST-MODIFIED:20221207T043400Z
UID:2315-1671904800-1671922800@charlottealanon.org
SUMMARY:Alanonathon Holiday Meetings--Christmas Eve
DESCRIPTION:In-Person Al-Anon Meetings at 6:30pm & 8:00pm at the Anuvia Center (upstairs). \nZoom Meetings at 6:00pm; 8:00pm; 10:00pm \nZoom information: https://us02web.zoom.us/j/85688292603?pwd=d2dNazJLcDYvUklobjNPZ09VdWN6Zz09 \nMeeting ID: 856 8829 2603 \nPasscode: 734912 \n  \nOne tap mobile numbers: \n+13126266799\,\,85688292603# US (Chicago) \n+16469313860\,\,85688292603# US \n  \nDial in numbers: \n+1 312 626 6799 US (Chicago) \n+1 646 931 3860 US \n+1 929 205 6099 US (New York) \n+1 301 715 8592 US (Washington DC) \n  \nFind your local number: https://us02web.zoom.us/u/kckUGXIu4k \n 
URL:https://charlottealanon.org/event/alanonathon-holiday-meeting-christmas-eve/
LOCATION:Anuvia Center\, 100 Billingsley Rd.\, Charlotte\, NC\, 28211\, United States
END:VEVENT
BEGIN:VEVENT
DTSTART;TZID=America/New_York:20221114T190000
DTEND;TZID=America/New_York:20221114T213000
DTSTAMP:20260423T204304
CREATED:20221028T235251Z
LAST-MODIFIED:20221029T000135Z
UID:1128-1668452400-1668461400@charlottealanon.org
SUMMARY:Annual Anniversary Potluck & Speaker Meeting
DESCRIPTION:Annual Anniversary Potluck and Speaker Meeting on November 14th \n  \n 
URL:https://charlottealanon.org/event/annual-anniversary-potluck-speaker-meeting/
LOCATION:Hudson Memorial Presbyterian Church\, 4921 Six Forks Rd.\, Raleigh\, NC\, 27609\, United States
END:VEVENT
BEGIN:VEVENT
DTSTART;TZID=UTC:20221104T080000
DTEND;TZID=UTC:20221105T170000
DTSTAMP:20260423T204304
CREATED:20221027T192327Z
LAST-MODIFIED:20221029T000732Z
UID:1073-1667548800-1667667600@charlottealanon.org
SUMMARY:Area 42 Fall Assembly
DESCRIPTION:2022 Fall Assembly Hotel Reservation Flyer (1)
URL:https://charlottealanon.org/event/area-42-fall-assembly/
LOCATION:First Presbyterian Church\, 102 S. Central Ave.\, Belmont\, NC\, 28012\, United States
END:VEVENT
END:VCALENDAR